BEGIN:VCALENDAR
VERSION:2.0
PRODID:-//Race Caribbean - ECPv5.14.0.4//NONSGML v1.0//EN
CALSCALE:GREGORIAN
METHOD:PUBLISH
X-WR-CALNAME:Race Caribbean
X-ORIGINAL-URL:https://racecaribbean.net
X-WR-CALDESC:Events for Race Caribbean
BEGIN:VTIMEZONE
TZID:America/Cayman
BEGIN:STANDARD
TZOFFSETFROM:-0500
TZOFFSETTO:-0500
TZNAME:EST
DTSTART:20240101T000000
END:STANDARD
END:VTIMEZONE
BEGIN:VEVENT
DTSTART;TZID=America/Cayman:20241012T160000
DTEND;TZID=America/Cayman:20241012T170000
DTSTAMP:20260423T092502
CREATED:20240925T190101Z
LAST-MODIFIED:20240925T192602Z
UID:24083-1728748800-1728752400@racecaribbean.net
SUMMARY:Foster's 800m & 400M Sea Swim - 2024
DESCRIPTION:The 40th Annual Foster’s 800m and 400m Sea Swim – Saturday 12 October 2024 \nWhere:  Governor’s Beach\nTime:  800m Race starts at 4:00 pm. (Check-in and body marking is at Governor’s Beach from 3:00 pm to 3:45 pm) 400m starts at the completion of the 800m race.\nCut-off Time:  40 Minutes from Race Start for the 800m\, 15 minutes from Race Start for the 400m\nCourse:  Start/Finish at Governor’s Beach\nAwards:  Trophies or medals for first\, second and third places in all age groups. T-shirts and refreshments also. \nIf weather conditions threaten the safety of the swimmers or organisers\, the race may be cancelled at the discretion of the Race Director. \nCIASA Membership: if interested in becoming a member please contact ciasaevents@gmail.com \nDECLARATION AND DISCLAIMER OF LIABILITY \nYOUR ATTENTION IS BROUGHT TO THE FOLLOWING WHICH YOU SHOULD READ CAREFULLY \nBy completing this form\, I declare\, verify and understand that: \n\nI am physically fit for the event\, I am a competent swimmer and I have no medical reasons why I should not participate in this event.\nI agree to abide by all of the event regulations stated.\nI agree to participate entirely at my own risk\, the extent of which I fully appreciate and I waive all possible rights that I may have\, or my heirs or dependents may have\, as a result of any injury\, loss to property or death which may occur as a result of my participation in this event\, in consideration of me participating in this event.\nI accept that no liability whatsoever will attach to CIASA\, the organisers\, sponsors\, volunteers or anyone else involved with Cayman Swimming and that they are in no way responsible for the safety of any swimmer\, in consideration of me participating in this event.\nI consent to the use of photographic images of myself in official event photos.
URL:https://racecaribbean.net/event/fosters-800m-400m-sea-swim-2024/
LOCATION:Governor’s Beach\, 23 Lime Tree Bay Ave\, West Bay\, Grand Cayman\, Cayman Islands
CATEGORIES:Swimming
ATTACH;FMTTYPE=image/png:https://racecaribbean.net/wp-content/uploads/2024/09/2Inv.-Fosters-Tshirt-40th-Annual-2024.png
ORGANIZER;CN="Race%20Caribbean%20KY":MAILTO:https://racecaribbean.net
END:VEVENT
END:VCALENDAR